BEGIN:VCALENDAR
VERSION:2.0
PRODID:-//2nd Braintree &amp; Bocking Air Scouts - ECPv6.15.20//NONSGML v1.0//EN
CALSCALE:GREGORIAN
METHOD:PUBLISH
X-WR-CALNAME:2nd Braintree &amp; Bocking Air Scouts
X-ORIGINAL-URL:https://www.2ndbraintreescouts.co.uk
X-WR-CALDESC:Events for 2nd Braintree &amp; Bocking Air Scouts
REFRESH-INTERVAL;VALUE=DURATION:PT1H
X-Robots-Tag:noindex
X-PUBLISHED-TTL:PT1H
BEGIN:VTIMEZONE
TZID:Europe/London
BEGIN:DAYLIGHT
TZOFFSETFROM:+0000
TZOFFSETTO:+0100
TZNAME:BST
DTSTART:20250330T010000
END:DAYLIGHT
BEGIN:STANDARD
TZOFFSETFROM:+0100
TZOFFSETTO:+0000
TZNAME:GMT
DTSTART:20251026T010000
END:STANDARD
BEGIN:DAYLIGHT
TZOFFSETFROM:+0000
TZOFFSETTO:+0100
TZNAME:BST
DTSTART:20260329T010000
END:DAYLIGHT
BEGIN:STANDARD
TZOFFSETFROM:+0100
TZOFFSETTO:+0000
TZNAME:GMT
DTSTART:20261025T010000
END:STANDARD
BEGIN:DAYLIGHT
TZOFFSETFROM:+0000
TZOFFSETTO:+0100
TZNAME:BST
DTSTART:20270328T010000
END:DAYLIGHT
BEGIN:STANDARD
TZOFFSETFROM:+0100
TZOFFSETTO:+0000
TZNAME:GMT
DTSTART:20271031T010000
END:STANDARD
END:VTIMEZONE
BEGIN:VEVENT
DTSTART;TZID=Europe/London:20260504T080000
DTEND;TZID=Europe/London:20260504T170000
DTSTAMP:20260422T000818
CREATED:20251003T142305Z
LAST-MODIFIED:20251003T142305Z
UID:520-1777881600-1777914000@www.2ndbraintreescouts.co.uk
SUMMARY:Bocking May Day Faire - Funday / Recruitment Day
DESCRIPTION:More information coming soon
URL:https://www.2ndbraintreescouts.co.uk/event/bocking-may-day-faire-funday-recruitment-day/
LOCATION:Essex
ORGANIZER;CN="2nd Braintree & Bocking Air Scout Group":MAILTO:gsl@2ndbraintreescouts.co.uk
END:VEVENT
BEGIN:VEVENT
DTSTART;TZID=Europe/London:20260612T180000
DTEND;TZID=Europe/London:20260614T170000
DTSTAMP:20260422T000818
CREATED:20251003T084038Z
LAST-MODIFIED:20251003T084300Z
UID:511-1781287200-1781456400@www.2ndbraintreescouts.co.uk
SUMMARY:Scouts: EPIC (Essex Scouts Camp)
DESCRIPTION:More information coming soon
URL:https://www.2ndbraintreescouts.co.uk/event/scouts-epic-essex-scouts-camp/
LOCATION:Skreens Activity Centre
CATEGORIES:Scout Camps
END:VEVENT
BEGIN:VEVENT
DTSTART;TZID=Europe/London:20260620T090000
DTEND;TZID=Europe/London:20260621T170000
DTSTAMP:20260422T000818
CREATED:20251003T084246Z
LAST-MODIFIED:20251003T084246Z
UID:514-1781946000-1782061200@www.2ndbraintreescouts.co.uk
SUMMARY:Beavers in Tents (Essex Beavers Camp)
DESCRIPTION:More information coming soon
URL:https://www.2ndbraintreescouts.co.uk/event/beavers-in-tents-essex-beavers-camp/
LOCATION:Skreens Activity Centre
CATEGORIES:Beavers Camps
END:VEVENT
BEGIN:VEVENT
DTSTART;TZID=Europe/London:20260824T080000
DTEND;TZID=Europe/London:20260829T170000
DTSTAMP:20260422T000818
CREATED:20251002T222843Z
LAST-MODIFIED:20251002T222843Z
UID:426-1787558400-1788022800@www.2ndbraintreescouts.co.uk
SUMMARY:Summer Camp 2026
DESCRIPTION:🎉 Join Us for an Unforgettable Adventure! 🌲✈️\n2nd Braintree and Bocking Air Scouts Group Summer Camp 2026\n📍 Thriftwood Scout Camp Site\n📅 24th August 2026 – 29th August 2026 – Scouts\n📅 24th August 2026 – 26th August 2026 – Beavers\n📅 27th August 2026 – 29th August 2026 – Cubs \nGet ready for a week packed with fun\, friendship\, and outdoor adventure at one of Essex’s premier Scout campsites! \n🛶 Activities Include: \n\nKayaking & Raft Building\nArchery & Climbing\nCampfire Cooking & Survival Skills\nAir Scout-themed challenges\nTeam games\, hikes\, and more!\n\n🍽️ All meals provided\n🏕️ Tents and equipment supplied\n👥 Open to all members of the 2nd Braintree and Bocking Air Scouts Group \n💬 Why Come?\nMake memories\, learn new skills\, and enjoy the great outdoors with your fellow Scouts. Whether you’re a seasoned camper or it’s your first time\, this is a summer you won’t want to miss! \n📌 Reserve Your Spot Early!\nSpaces are limited — speak to your section leader to register interest.
URL:https://www.2ndbraintreescouts.co.uk/event/summer-camp-2026/
LOCATION:Thriftwood Scout Camp Site\, Orchard Ave\, Brentwood\, Essex\, CM13 2DP\, United Kingdom
CATEGORIES:Group Camps
ORGANIZER;CN="2nd Braintree & Bocking Air Scout Group":MAILTO:gsl@2ndbraintreescouts.co.uk
END:VEVENT
END:VCALENDAR