BEGIN:VCALENDAR
VERSION:2.0
PRODID:-//2nd Braintree &amp; Bocking Air Scouts - ECPv6.15.20//NONSGML v1.0//EN
CALSCALE:GREGORIAN
METHOD:PUBLISH
X-ORIGINAL-URL:https://www.2ndbraintreescouts.co.uk
X-WR-CALDESC:Events for 2nd Braintree &amp; Bocking Air Scouts
REFRESH-INTERVAL;VALUE=DURATION:PT1H
X-Robots-Tag:noindex
X-PUBLISHED-TTL:PT1H
BEGIN:VTIMEZONE
TZID:Europe/London
BEGIN:DAYLIGHT
TZOFFSETFROM:+0000
TZOFFSETTO:+0100
TZNAME:BST
DTSTART:20240331T010000
END:DAYLIGHT
BEGIN:STANDARD
TZOFFSETFROM:+0100
TZOFFSETTO:+0000
TZNAME:GMT
DTSTART:20241027T010000
END:STANDARD
BEGIN:DAYLIGHT
TZOFFSETFROM:+0000
TZOFFSETTO:+0100
TZNAME:BST
DTSTART:20250330T010000
END:DAYLIGHT
BEGIN:STANDARD
TZOFFSETFROM:+0100
TZOFFSETTO:+0000
TZNAME:GMT
DTSTART:20251026T010000
END:STANDARD
BEGIN:DAYLIGHT
TZOFFSETFROM:+0000
TZOFFSETTO:+0100
TZNAME:BST
DTSTART:20260329T010000
END:DAYLIGHT
BEGIN:STANDARD
TZOFFSETFROM:+0100
TZOFFSETTO:+0000
TZNAME:GMT
DTSTART:20261025T010000
END:STANDARD
END:VTIMEZONE
BEGIN:VEVENT
DTSTART;TZID=Europe/London:20251010T190000
DTEND;TZID=Europe/London:20251010T210000
DTSTAMP:20260422T015346
CREATED:20251003T141619Z
LAST-MODIFIED:20251003T141619Z
UID:517-1760122800-1760130000@www.2ndbraintreescouts.co.uk
SUMMARY:Essex & Harts Air Ambulance Visit - Earls Colne
DESCRIPTION:Cubs & Scouts Visit to Essex & Herts Air Ambulance 🚁 \nWe’re excited to announce a special visit for our Cubs and Scouts to the Essex & Herts Air Ambulance basein Earls Colne! \n📅 Date: Thursday\, 10th October\n🕖 Time: 19:00 – 21:00\n📍 Location: Essex & Herts Air Ambulance\, Earls Colne Airfield \nThis is a fantastic opportunity for our young members to learn about the life-saving work of the air ambulance team\, explore the base\, and possibly see the helicopter up close (subject to operational availability). \nWhat to bring: \n\nFull uniform\nA notebook and pen (optional\, for those who want to jot down interesting facts!)\nEnthusiasm and curiosity!\n\nParents/Guardians: Please ensure your child arrives promptly and is collected on time. If you have any questions\, feel free to contact the group lead. \nLet’s make this an inspiring and educational evening for our Cubs and Scouts!
URL:https://www.2ndbraintreescouts.co.uk/event/essex-harts-air-ambulance-visit-earls-colne/
LOCATION:Earls Colne Air Feild\, Hangar 1 Earls Colne Airfield\, Earls Colne\,\, Colchester\, Essex\, CO6 2NS\, United Kingdom
CATEGORIES:Trips & Visits
ORGANIZER;CN="2nd Braintree & Bocking Air Scout Group":MAILTO:gsl@2ndbraintreescouts.co.uk
END:VEVENT
END:VCALENDAR