BEGIN:VCALENDAR
VERSION:2.0
PRODID:-//2nd Braintree &amp; Bocking Air Scouts - ECPv6.15.20//NONSGML v1.0//EN
CALSCALE:GREGORIAN
METHOD:PUBLISH
X-ORIGINAL-URL:https://www.2ndbraintreescouts.co.uk
X-WR-CALDESC:Events for 2nd Braintree &amp; Bocking Air Scouts
REFRESH-INTERVAL;VALUE=DURATION:PT1H
X-Robots-Tag:noindex
X-PUBLISHED-TTL:PT1H
BEGIN:VTIMEZONE
TZID:Europe/London
BEGIN:DAYLIGHT
TZOFFSETFROM:+0000
TZOFFSETTO:+0100
TZNAME:BST
DTSTART:20240331T010000
END:DAYLIGHT
BEGIN:STANDARD
TZOFFSETFROM:+0100
TZOFFSETTO:+0000
TZNAME:GMT
DTSTART:20241027T010000
END:STANDARD
BEGIN:DAYLIGHT
TZOFFSETFROM:+0000
TZOFFSETTO:+0100
TZNAME:BST
DTSTART:20250330T010000
END:DAYLIGHT
BEGIN:STANDARD
TZOFFSETFROM:+0100
TZOFFSETTO:+0000
TZNAME:GMT
DTSTART:20251026T010000
END:STANDARD
BEGIN:DAYLIGHT
TZOFFSETFROM:+0000
TZOFFSETTO:+0100
TZNAME:BST
DTSTART:20260329T010000
END:DAYLIGHT
BEGIN:STANDARD
TZOFFSETFROM:+0100
TZOFFSETTO:+0000
TZNAME:GMT
DTSTART:20261025T010000
END:STANDARD
BEGIN:DAYLIGHT
TZOFFSETFROM:+0000
TZOFFSETTO:+0100
TZNAME:BST
DTSTART:20270328T010000
END:DAYLIGHT
BEGIN:STANDARD
TZOFFSETFROM:+0100
TZOFFSETTO:+0000
TZNAME:GMT
DTSTART:20271031T010000
END:STANDARD
END:VTIMEZONE
BEGIN:VEVENT
DTSTART;TZID=Europe/London:20260321T100000
DTEND;TZID=Europe/London:20260322T160000
DTSTAMP:20260422T015514
CREATED:20251009T164709Z
LAST-MODIFIED:20251009T164709Z
UID:542-1774087200-1774195200@www.2ndbraintreescouts.co.uk
SUMMARY:Scouts - Spring Camp
DESCRIPTION:Details to be confirmed
URL:https://www.2ndbraintreescouts.co.uk/event/scouts-spring-camp/
LOCATION:Thorrington Scout Camp\, Thorrington Scout Camp\, Brick Kiln Lane\, Colchester\, Essex\, CO7 8JF
CATEGORIES:Scout Camps
ATTACH;FMTTYPE=image/jpeg:https://www.2ndbraintreescouts.co.uk/wp-content/uploads/2025/10/springcamp.jpg
ORGANIZER;CN="2nd Braintree & Bocking Air Scout Group":MAILTO:gsl@2ndbraintreescouts.co.uk
END:VEVENT
BEGIN:VEVENT
DTSTART;TZID=Europe/London:20251017T200000
DTEND;TZID=Europe/London:20251018T080000
DTSTAMP:20260422T015514
CREATED:20251002T231807Z
LAST-MODIFIED:20251003T002744Z
UID:438-1760731200-1760774400@www.2ndbraintreescouts.co.uk
SUMMARY:JOTA - JOTI  - Jamboree Scouts Sleepover
DESCRIPTION:🌍📡 JOTA-JOTI Sleepover 2026\nJoin the World’s Largest Scout Communication Event!\n🏕️ Hosted by 2nd Braintree and Bocking Air Scouts\n📅 17th October 2025 – 18th October 2025\n🕒 From 20:00 to 08:00  \nGet ready for a night of global connections\, tech fun\, and Scout spirit as we take part in Jamboree on the Air (JOTA)and Jamboree on the Internet (JOTI) — linking up with Scouts from around the world! \n🎧 What’s Happening? \n\nTalk to Scouts across the globe via internet\nTake part in international games and challenges\nLearn about amateur radio and digital communication\nEnjoy campfire snacks\, games\, and a sleepover with your Scout friends!\n\n💻 No passport needed — just curiosity and a sense of adventure! \n🎒 What to Bring: \n\nSleeping bag & roll mat\nUniform & comfy clothes\nToiletries & torch\nA sense of fun!\n\n📌 Sign Up Now!\nSpaces are limited — contact your section leader to reserve your place. \nLet’s make friends across borders and celebrate Scouting worldwide! 🌐🌟
URL:https://www.2ndbraintreescouts.co.uk/event/jota-joti-jamboree-sleepover/
LOCATION:Essex
CATEGORIES:Scout Camps
ATTACH;FMTTYPE=image/png:https://www.2ndbraintreescouts.co.uk/wp-content/uploads/2025/10/jota-seo-25-01.png
ORGANIZER;CN="2nd Braintree & Bocking Air Scout Group":MAILTO:gsl@2ndbraintreescouts.co.uk
END:VEVENT
END:VCALENDAR